BEGIN:VCALENDAR
VERSION:2.0
PRODID:-//Color Sound - ECPv6.15.6//NONSGML v1.0//EN
CALSCALE:GREGORIAN
METHOD:PUBLISH
X-ORIGINAL-URL:https://www.colorsound.com
X-WR-CALDESC:Eventi per Color Sound
REFRESH-INTERVAL;VALUE=DURATION:PT1H
X-Robots-Tag:noindex
X-PUBLISHED-TTL:PT1H
BEGIN:VTIMEZONE
TZID:Europe/Rome
BEGIN:DAYLIGHT
TZOFFSETFROM:+0100
TZOFFSETTO:+0200
TZNAME:CEST
DTSTART:20240331T010000
END:DAYLIGHT
BEGIN:STANDARD
TZOFFSETFROM:+0200
TZOFFSETTO:+0100
TZNAME:CET
DTSTART:20241027T010000
END:STANDARD
BEGIN:DAYLIGHT
TZOFFSETFROM:+0100
TZOFFSETTO:+0200
TZNAME:CEST
DTSTART:20250330T010000
END:DAYLIGHT
BEGIN:STANDARD
TZOFFSETFROM:+0200
TZOFFSETTO:+0100
TZNAME:CET
DTSTART:20251026T010000
END:STANDARD
BEGIN:DAYLIGHT
TZOFFSETFROM:+0100
TZOFFSETTO:+0200
TZNAME:CEST
DTSTART:20260329T010000
END:DAYLIGHT
BEGIN:STANDARD
TZOFFSETFROM:+0200
TZOFFSETTO:+0100
TZNAME:CET
DTSTART:20261025T010000
END:STANDARD
END:VTIMEZONE
BEGIN:VEVENT
DTSTART;TZID=Europe/Rome:20250817T210000
DTEND;TZID=Europe/Rome:20250817T233000
DTSTAMP:20260425T155335
CREATED:20250423T134601Z
LAST-MODIFIED:20250423T134601Z
UID:2899-1755464400-1755473400@www.colorsound.com
SUMMARY:Fred de Palma @ Piazza della Chiesa\, Meta (AQ)
DESCRIPTION:
URL:https://www.colorsound.com/evento/fred-de-palma-piazza-della-chiesa-meta-aq/
LOCATION:Piazza della Chiesa\, Meta
ATTACH;FMTTYPE=image/jpeg:https://www.colorsound.com/wp-content/uploads/2025/03/FDP_MHH1036-scaled-e1742220171407.jpg
END:VEVENT
BEGIN:VEVENT
DTSTART;TZID=Europe/Rome:20250818T210000
DTEND;TZID=Europe/Rome:20250818T233000
DTSTAMP:20260425T155335
CREATED:20250317T143456Z
LAST-MODIFIED:20250317T143456Z
UID:2512-1755550800-1755559800@www.colorsound.com
SUMMARY:Rovazzi @ Piazza Carlo del Corte\, Villamar (CA)
DESCRIPTION:
URL:https://www.colorsound.com/evento/rovazzi-piazza-carlo-del-corte-villamar-ca/
LOCATION:| VILLAMAR (CA)\, Piazza Carlo del Corte
ATTACH;FMTTYPE=image/png:https://www.colorsound.com/wp-content/uploads/2025/03/Schermata-2025-03-17-alle-14.58.51-e1742219987975.png
END:VEVENT
BEGIN:VEVENT
DTSTART;TZID=Europe/Rome:20250818T210000
DTEND;TZID=Europe/Rome:20250818T233000
DTSTAMP:20260425T155335
CREATED:20250423T095555Z
LAST-MODIFIED:20250423T095555Z
UID:2734-1755550800-1755559800@www.colorsound.com
SUMMARY:Federica Carta @ Piazza Salvo D'Aquisto\, Albano di Lucania (PZ)
DESCRIPTION:
URL:https://www.colorsound.com/evento/federica-carta-piazza-salvo-daquisto-albano-di-lucania-pz/
LOCATION:Piazza Salvo D’acquisto\, Albano di Lucania (PZ)
ATTACH;FMTTYPE=image/jpeg:https://www.colorsound.com/wp-content/uploads/2024/01/Federica-Carta-4-scaled-800x980-1.jpeg
END:VEVENT
BEGIN:VEVENT
DTSTART;TZID=Europe/Rome:20250822T210000
DTEND;TZID=Europe/Rome:20250822T233000
DTSTAMP:20260425T155335
CREATED:20250429T103557Z
LAST-MODIFIED:20250429T103557Z
UID:2948-1755896400-1755905400@www.colorsound.com
SUMMARY:Enrico Ruggeri @ Piazza Medaglie D'oro\, San Chirico Nuovo (PZ)
DESCRIPTION:
URL:https://www.colorsound.com/evento/enrico-ruggeri-piazza-medaglie-doro-san-chirico-nuovo-pz/
LOCATION:San Chirico Nuovo\, Piazza Medaglie D’oro
ATTACH;FMTTYPE=image/png:https://www.colorsound.com/wp-content/uploads/2024/05/Schermata-2024-05-20-alle-16.13.52.png
END:VEVENT
BEGIN:VEVENT
DTSTART;TZID=Europe/Rome:20250827T210000
DTEND;TZID=Europe/Rome:20250827T233000
DTSTAMP:20260425T155335
CREATED:20250423T094009Z
LAST-MODIFIED:20250423T094009Z
UID:2718-1756328400-1756337400@www.colorsound.com
SUMMARY:Dj Jad & Wlady @ Piazza Indipendenza\, Botrugno (LE)
DESCRIPTION:
URL:https://www.colorsound.com/evento/dj-jad-wlady-piazza-indipendenza-botrugno-le/
LOCATION:Piazza Indipendenza\, Botrugno (LE)
ATTACH;FMTTYPE=image/jpeg:https://www.colorsound.com/wp-content/uploads/2024/02/IMG17-scaled.jpg
END:VEVENT
BEGIN:VEVENT
DTSTART;TZID=Europe/Rome:20250827T210000
DTEND;TZID=Europe/Rome:20250827T233000
DTSTAMP:20260425T155335
CREATED:20250423T131400Z
LAST-MODIFIED:20250423T131400Z
UID:2842-1756328400-1756337400@www.colorsound.com
SUMMARY:Gemelli Diversi @ Piazza Indipendenza\, Botrugno (LE)
DESCRIPTION:
URL:https://www.colorsound.com/evento/gemelli-diversi-piazza-indipendenza-botrugno-le/
LOCATION:Botrugno (LE)
ATTACH;FMTTYPE=image/png:https://www.colorsound.com/wp-content/uploads/2024/05/IMMAGINE-POST-PRODOTTA-GVD.png
END:VEVENT
BEGIN:VEVENT
DTSTART;TZID=Europe/Rome:20250829T210000
DTEND;TZID=Europe/Rome:20250829T233000
DTSTAMP:20260425T155335
CREATED:20250423T093134Z
LAST-MODIFIED:20250423T093134Z
UID:2701-1756501200-1756510200@www.colorsound.com
SUMMARY:Dani Faiv @ Piazza Eroi due mondi\, Street fest Savona
DESCRIPTION:
URL:https://www.colorsound.com/evento/dani-faiv-piazza-eroi-due-mondi-street-fest-savona/
LOCATION:Piazza Eroi due mondi\, Savona
ATTACH;FMTTYPE=image/png:https://www.colorsound.com/wp-content/uploads/2025/03/Schermata-2025-03-17-alle-15.38.34.png
END:VEVENT
BEGIN:VEVENT
DTSTART;TZID=Europe/Rome:20250829T210000
DTEND;TZID=Europe/Rome:20250829T233000
DTSTAMP:20260425T155335
CREATED:20250423T131622Z
LAST-MODIFIED:20250423T131622Z
UID:2848-1756501200-1756510200@www.colorsound.com
SUMMARY:Gemelli Diversi @ Piazza Primo Maggio\, Samatzai (CA)
DESCRIPTION:
URL:https://www.colorsound.com/evento/gemelli-diversi-piazza-primo-maggio-samatzai-ca/
LOCATION:Samatzai (CA)
ATTACH;FMTTYPE=image/png:https://www.colorsound.com/wp-content/uploads/2024/05/IMMAGINE-POST-PRODOTTA-GVD.png
END:VEVENT
BEGIN:VEVENT
DTSTART;TZID=Europe/Rome:20250906T210000
DTEND;TZID=Europe/Rome:20250906T233000
DTSTAMP:20260425T155335
CREATED:20250317T151201Z
LAST-MODIFIED:20250318T150354Z
UID:2547-1757192400-1757201400@www.colorsound.com
SUMMARY:Riccardo Fogli @ Piazza\, Sant'antioco (SU)
DESCRIPTION:
URL:https://www.colorsound.com/evento/riccardo-fogli-santantioco-piazza/
LOCATION:SANT’ANTIOCO | Piazza
ATTACH;FMTTYPE=image/jpeg:https://www.colorsound.com/wp-content/uploads/2024/01/FOTO-FOGLIsito-color-new-600x730-1.jpeg
END:VEVENT
BEGIN:VEVENT
DTSTART;TZID=Europe/Rome:20250906T210000
DTEND;TZID=Europe/Rome:20250906T233000
DTSTAMP:20260425T155335
CREATED:20250429T103905Z
LAST-MODIFIED:20250429T103905Z
UID:2952-1757192400-1757201400@www.colorsound.com
SUMMARY:Enrico Ruggeri @ Piazza San Biagio\, Lestizza (UD)
DESCRIPTION:
URL:https://www.colorsound.com/evento/enrico-ruggeri-piazza-san-biagio-lestizza-ud/
LOCATION:Lestizza\, Piazza San Biagio
ATTACH;FMTTYPE=image/png:https://www.colorsound.com/wp-content/uploads/2024/05/Schermata-2024-05-20-alle-16.13.52.png
END:VEVENT
BEGIN:VEVENT
DTSTART;TZID=Europe/Rome:20250907T210000
DTEND;TZID=Europe/Rome:20250907T233000
DTSTAMP:20260425T155335
CREATED:20250423T131804Z
LAST-MODIFIED:20250423T131804Z
UID:2852-1757278800-1757287800@www.colorsound.com
SUMMARY:Gemelli Diversi @ Piazza Ferrari\, Mammola (RC)
DESCRIPTION:
URL:https://www.colorsound.com/evento/gemelli-diversi-piazza-ferrari-mammola-rc/
LOCATION:Mammola (RC)
ATTACH;FMTTYPE=image/png:https://www.colorsound.com/wp-content/uploads/2024/05/IMMAGINE-POST-PRODOTTA-GVD.png
END:VEVENT
BEGIN:VEVENT
DTSTART;TZID=Europe/Rome:20250909T210000
DTEND;TZID=Europe/Rome:20250909T233000
DTSTAMP:20260425T155335
CREATED:20250317T142058Z
LAST-MODIFIED:20250318T145543Z
UID:2466-1757451600-1757460600@www.colorsound.com
SUMMARY:The Kolors @ Carroponte\, Milano (MI)
DESCRIPTION:
URL:https://www.colorsound.com/evento/the-kolors-carroponte-milano/
LOCATION:MILANO | Carroponte
ATTACH;FMTTYPE=image/png:https://www.colorsound.com/wp-content/uploads/2024/05/Schermata-2024-05-20-alle-16.37.47.png
END:VEVENT
BEGIN:VEVENT
DTSTART;TZID=Europe/Rome:20250911T210000
DTEND;TZID=Europe/Rome:20250911T233000
DTSTAMP:20260425T155335
CREATED:20250317T152155Z
LAST-MODIFIED:20250318T145512Z
UID:2555-1757624400-1757633400@www.colorsound.com
SUMMARY:Rocco Hunt @ Reggia di Caserta\, Caserta (CE)
DESCRIPTION:
URL:https://www.colorsound.com/evento/rocco-hunt-reggia-di-caserta-caserta/
LOCATION:CASERTA | REGGIA DI CASERTA
ATTACH;FMTTYPE=image/jpeg:https://www.colorsound.com/wp-content/uploads/2024/01/Rocco_Hunt.jpeg
END:VEVENT
BEGIN:VEVENT
DTSTART;TZID=Europe/Rome:20250914T210000
DTEND;TZID=Europe/Rome:20250914T233000
DTSTAMP:20260425T155335
CREATED:20250429T104046Z
LAST-MODIFIED:20250429T104046Z
UID:2944-1757883600-1757892600@www.colorsound.com
SUMMARY:Enrico Ruggeri @ Piazza San Giovanni Paolo II\, San Giovanni a Piro (SA)
DESCRIPTION:
URL:https://www.colorsound.com/evento/enrico-ruggeri-piazza-san-giovanni-paolo-ii-san-giovanni-a-piro-sa/
LOCATION:San Giovanni a Piro (SA)\, Piazza San Giovanni Paolo II
ATTACH;FMTTYPE=image/png:https://www.colorsound.com/wp-content/uploads/2024/05/Schermata-2024-05-20-alle-16.13.52.png
END:VEVENT
BEGIN:VEVENT
DTSTART;TZID=Europe/Rome:20250916T210000
DTEND;TZID=Europe/Rome:20250916T233000
DTSTAMP:20260425T155335
CREATED:20250326T152407Z
LAST-MODIFIED:20250326T152437Z
UID:2675-1758056400-1758065400@www.colorsound.com
SUMMARY:The Kolors @ Cavea | Auditorium Parco della Musica Ennio Morricone\, Roma (RM)
DESCRIPTION:
URL:https://www.colorsound.com/evento/the-kolors-auditorium-parco-della-musica-ennio-morricone-roma-rm/
LOCATION:ROMA | Auditorium Parco della Musica – Cavea\, Via Pietro De Coubertin\,30\, 00196 ROMA RM
ATTACH;FMTTYPE=image/jpeg:https://www.colorsound.com/wp-content/uploads/2024/01/IMG_3926.jpg
END:VEVENT
BEGIN:VEVENT
DTSTART;TZID=Europe/Rome:20250917T210000
DTEND;TZID=Europe/Rome:20250917T233000
DTSTAMP:20260425T155335
CREATED:20250423T135006Z
LAST-MODIFIED:20250423T135006Z
UID:2903-1758142800-1758151800@www.colorsound.com
SUMMARY:Fred de Palma @ Festival\, Lariano (RM)
DESCRIPTION:
URL:https://www.colorsound.com/evento/fred-de-palma-festival-lariano-rm/
LOCATION:Festival\, Lariano (RM)
ATTACH;FMTTYPE=image/jpeg:https://www.colorsound.com/wp-content/uploads/2025/03/FDP_MHH1036-scaled-e1742220171407.jpg
END:VEVENT
BEGIN:VEVENT
DTSTART;TZID=Europe/Rome:20250920T210000
DTEND;TZID=Europe/Rome:20250920T233000
DTSTAMP:20260425T155335
CREATED:20250429T104132Z
LAST-MODIFIED:20250429T104132Z
UID:2956-1758402000-1758411000@www.colorsound.com
SUMMARY:Enrico Ruggeri @ Piazza Santa Maria\, Santo Stefano Rogliano (CS)
DESCRIPTION:
URL:https://www.colorsound.com/evento/enrico-ruggeri-piazza-santa-maria-santo-stefano-rogliano-cs/
LOCATION:Santo Stefano Rogliano\, Piazza Santa Maria
ATTACH;FMTTYPE=image/png:https://www.colorsound.com/wp-content/uploads/2024/05/Schermata-2024-05-20-alle-16.13.52.png
END:VEVENT
BEGIN:VEVENT
DTSTART;TZID=Europe/Rome:20250927T210000
DTEND;TZID=Europe/Rome:20250927T233000
DTSTAMP:20260425T155335
CREATED:20250423T131939Z
LAST-MODIFIED:20250423T131939Z
UID:2856-1759006800-1759015800@www.colorsound.com
SUMMARY:Gemelli Diversi @ Piazza San Michele Arcangelo\, Padru (SS)
DESCRIPTION:
URL:https://www.colorsound.com/evento/gemelli-diversi-piazza-san-michele-arcangelo-padru-ss/
LOCATION:Padru (SS)
ATTACH;FMTTYPE=image/png:https://www.colorsound.com/wp-content/uploads/2024/05/IMMAGINE-POST-PRODOTTA-GVD.png
END:VEVENT
BEGIN:VEVENT
DTSTART;TZID=Europe/Rome:20251006T210000
DTEND;TZID=Europe/Rome:20251006T233000
DTSTAMP:20260425T155335
CREATED:20250317T152714Z
LAST-MODIFIED:20250318T145355Z
UID:2559-1759784400-1759793400@www.colorsound.com
SUMMARY:Rocco Hunt @ Unipol forum\, Milano (MI)
DESCRIPTION:
URL:https://www.colorsound.com/evento/rocco-hunt-unipol-forum-milano/
LOCATION:MILANO | UNIPOL FORUM
ATTACH;FMTTYPE=image/jpeg:https://www.colorsound.com/wp-content/uploads/2024/01/Rocco_Hunt.jpeg
END:VEVENT
BEGIN:VEVENT
DTSTART;TZID=Europe/Rome:20251108T210000
DTEND;TZID=Europe/Rome:20251108T233000
DTSTAMP:20260425T155335
CREATED:20250317T151713Z
LAST-MODIFIED:20250318T145331Z
UID:2551-1762635600-1762644600@www.colorsound.com
SUMMARY:Riccardo Fogli @ Friburgo (CH)
DESCRIPTION:
URL:https://www.colorsound.com/evento/riccardo-fogli-friburgo/
LOCATION:FRIBURGO
ATTACH;FMTTYPE=image/jpeg:https://www.colorsound.com/wp-content/uploads/2024/01/FOTO-FOGLIsito-color-new-600x730-1.jpeg
END:VEVENT
BEGIN:VEVENT
DTSTART;TZID=Europe/Rome:20251208T210000
DTEND;TZID=Europe/Rome:20251208T233000
DTSTAMP:20260425T155335
CREATED:20250317T141753Z
LAST-MODIFIED:20250318T145303Z
UID:2460-1765227600-1765236600@www.colorsound.com
SUMMARY:The Kolors @ Villa Matarazzo\, Santa Maria Di Castellabate (SA)
DESCRIPTION:
URL:https://www.colorsound.com/evento/the-kolors-villa-matarazzo-santa-maria-di-castellabate/
LOCATION:SANTA MARIA DI CASTELLABATE | Villa Matarazzo
ATTACH;FMTTYPE=image/png:https://www.colorsound.com/wp-content/uploads/2024/05/Schermata-2024-05-20-alle-16.37.47.png
END:VEVENT
END:VCALENDAR