BEGIN:VCALENDAR
VERSION:2.0
PRODID:-//Color Sound - ECPv6.15.6//NONSGML v1.0//EN
CALSCALE:GREGORIAN
METHOD:PUBLISH
X-ORIGINAL-URL:https://www.colorsound.com
X-WR-CALDESC:Eventi per Color Sound
REFRESH-INTERVAL;VALUE=DURATION:PT1H
X-Robots-Tag:noindex
X-PUBLISHED-TTL:PT1H
BEGIN:VTIMEZONE
TZID:Europe/Rome
BEGIN:DAYLIGHT
TZOFFSETFROM:+0100
TZOFFSETTO:+0200
TZNAME:CEST
DTSTART:20240331T010000
END:DAYLIGHT
BEGIN:STANDARD
TZOFFSETFROM:+0200
TZOFFSETTO:+0100
TZNAME:CET
DTSTART:20241027T010000
END:STANDARD
BEGIN:DAYLIGHT
TZOFFSETFROM:+0100
TZOFFSETTO:+0200
TZNAME:CEST
DTSTART:20250330T010000
END:DAYLIGHT
BEGIN:STANDARD
TZOFFSETFROM:+0200
TZOFFSETTO:+0100
TZNAME:CET
DTSTART:20251026T010000
END:STANDARD
BEGIN:DAYLIGHT
TZOFFSETFROM:+0100
TZOFFSETTO:+0200
TZNAME:CEST
DTSTART:20260329T010000
END:DAYLIGHT
BEGIN:STANDARD
TZOFFSETFROM:+0200
TZOFFSETTO:+0100
TZNAME:CET
DTSTART:20261025T010000
END:STANDARD
END:VTIMEZONE
BEGIN:VEVENT
DTSTART;TZID=Europe/Rome:20250621T210000
DTEND;TZID=Europe/Rome:20250621T233000
DTSTAMP:20260425T124714
CREATED:20250423T094535Z
LAST-MODIFIED:20250522T161405Z
UID:2722-1750539600-1750548600@www.colorsound.com
SUMMARY:Luca Dirisio @ Limoni Festival\, Panicale (PG)
DESCRIPTION:
URL:https://www.colorsound.com/evento/luca-dirisio-limoni-festival-borgo-di-panicale-pg/
LOCATION:Limoni Festival\, Borgo di Panicale (PG)
ATTACH;FMTTYPE=image/jpeg:https://www.colorsound.com/wp-content/uploads/2025/03/LUCA-DIRISIO_2025-scaled.jpg
END:VEVENT
BEGIN:VEVENT
DTSTART;TZID=Europe/Rome:20250621T210000
DTEND;TZID=Europe/Rome:20250621T233000
DTSTAMP:20260425T124714
CREATED:20250423T101651Z
LAST-MODIFIED:20250423T101651Z
UID:2758-1750539600-1750548600@www.colorsound.com
SUMMARY:Riccardo Fogli @ Campo Sportivo Giove\, Terni
DESCRIPTION:
URL:https://www.colorsound.com/evento/riccardo-fogli-campo-sportivo-giove-terni/
LOCATION:Campo Sportivo Giove\, Terni
ATTACH;FMTTYPE=image/jpeg:https://www.colorsound.com/wp-content/uploads/2024/01/FOTO-FOGLIsito-color-new-600x730-1.jpeg
END:VEVENT
BEGIN:VEVENT
DTSTART;TZID=Europe/Rome:20250628T210000
DTEND;TZID=Europe/Rome:20250628T233000
DTSTAMP:20260425T124714
CREATED:20250423T103655Z
LAST-MODIFIED:20250423T103655Z
UID:2800-1751144400-1751153400@www.colorsound.com
SUMMARY:Gemelli Diversi @ Anfiteatro\, Badesi (SS)
DESCRIPTION:
URL:https://www.colorsound.com/evento/gemelli-diversi-anfiteatro-badesi-ss/
LOCATION:Badesi (SS)
ATTACH;FMTTYPE=image/png:https://www.colorsound.com/wp-content/uploads/2024/05/IMMAGINE-POST-PRODOTTA-GVD.png
END:VEVENT
BEGIN:VEVENT
DTSTART;TZID=Europe/Rome:20250628T210000
DTEND;TZID=Europe/Rome:20250628T233000
DTSTAMP:20260425T124714
CREATED:20250429T102758Z
LAST-MODIFIED:20250429T103214Z
UID:2921-1751144400-1751153400@www.colorsound.com
SUMMARY:Enrico Ruggeri @ Piazza Costituzione\, Casalgrande (RE)
DESCRIPTION:
URL:https://www.colorsound.com/evento/enrico-ruggeri-piazza-costituzione-casalgrande-re/
LOCATION:Casalgrande\, Piazza Costituzione
ATTACH;FMTTYPE=image/png:https://www.colorsound.com/wp-content/uploads/2024/05/Schermata-2024-05-20-alle-16.13.52.png
END:VEVENT
BEGIN:VEVENT
DTSTART;TZID=Europe/Rome:20250704T210000
DTEND;TZID=Europe/Rome:20250704T233000
DTSTAMP:20260425T124714
CREATED:20250317T142602Z
LAST-MODIFIED:20250702T103655Z
UID:2478-1751662800-1751671800@www.colorsound.com
SUMMARY:Rovazzi @ La Centrale\, Imola (BO)
DESCRIPTION:
URL:https://www.colorsound.com/evento/rovazzi-centrale-del-latte-imola-bo/
LOCATION:| IMOLA\, Centrale del latte
ATTACH;FMTTYPE=image/png:https://www.colorsound.com/wp-content/uploads/2025/03/Schermata-2025-03-17-alle-14.58.51-e1742219987975.png
END:VEVENT
BEGIN:VEVENT
DTSTART;TZID=Europe/Rome:20250704T210000
DTEND;TZID=Europe/Rome:20250704T233000
DTSTAMP:20260425T124714
CREATED:20250423T104053Z
LAST-MODIFIED:20250423T104053Z
UID:2806-1751662800-1751671800@www.colorsound.com
SUMMARY:Gemelli Diversi @ Unknow Festival\, Scandiano (RE)
DESCRIPTION:
URL:https://www.colorsound.com/evento/gemelli-diversi-unknow-festival-scandiano-re/
LOCATION:Unknow Festival\, Scandiano (RE)
ATTACH;FMTTYPE=image/jpeg:https://www.colorsound.com/wp-content/uploads/2024/01/Gemelli-Diversi-400x470-1.jpeg
END:VEVENT
BEGIN:VEVENT
DTSTART;TZID=Europe/Rome:20250706T210000
DTEND;TZID=Europe/Rome:20250706T233000
DTSTAMP:20260425T124714
CREATED:20250429T103125Z
LAST-MODIFIED:20250429T103125Z
UID:2925-1751835600-1751844600@www.colorsound.com
SUMMARY:Enrico Ruggeri @ Campo Bruno Reffi " Musica e Parole"\, San Marino
DESCRIPTION:
URL:https://www.colorsound.com/evento/enrico-ruggeri-campo-bruno-reffi-musica-e-parole-san-marino/
LOCATION:San Marino\, Campo Bruno Reffi " Musica e Parole"
ATTACH;FMTTYPE=image/png:https://www.colorsound.com/wp-content/uploads/2024/05/Schermata-2024-05-20-alle-16.13.52.png
END:VEVENT
BEGIN:VEVENT
DTSTART;TZID=Europe/Rome:20250708T210000
DTEND;TZID=Europe/Rome:20250708T233000
DTSTAMP:20260425T124714
CREATED:20250429T103259Z
LAST-MODIFIED:20250429T103259Z
UID:2936-1752008400-1752017400@www.colorsound.com
SUMMARY:Enrico Ruggeri @ Piazza XX Settembre\, Castel San Giovanni (PC)
DESCRIPTION:
URL:https://www.colorsound.com/evento/enrico-ruggeri-piazza-xx-settembre-castel-san-giovanni-pc/
LOCATION:Castel San Giovanni\, Piazza XX Settembre
ATTACH;FMTTYPE=image/png:https://www.colorsound.com/wp-content/uploads/2024/05/Schermata-2024-05-20-alle-16.13.52.png
END:VEVENT
BEGIN:VEVENT
DTSTART;TZID=Europe/Rome:20250711T210000
DTEND;TZID=Europe/Rome:20250711T233000
DTSTAMP:20260425T124714
CREATED:20250317T141037Z
LAST-MODIFIED:20250318T151638Z
UID:2336-1752267600-1752276600@www.colorsound.com
SUMMARY:The Kolors @ Anfiteatro delle cascine\, Firenze (FI)
DESCRIPTION:
URL:https://www.colorsound.com/evento/the-kolors-firenze-anfiteatro-delle-cascine/
LOCATION:FIRENZE | delle cascine
ATTACH;FMTTYPE=image/png:https://www.colorsound.com/wp-content/uploads/2024/05/Schermata-2024-05-20-alle-16.37.47.png
END:VEVENT
BEGIN:VEVENT
DTSTART;TZID=Europe/Rome:20250712T080000
DTEND;TZID=Europe/Rome:20250712T170000
DTSTAMP:20260425T124714
CREATED:20250317T142836Z
LAST-MODIFIED:20250317T142836Z
UID:2487-1752307200-1752339600@www.colorsound.com
SUMMARY:Rovazzi @ Piazza Club\, PraJa di Gallipoli
DESCRIPTION:
URL:https://www.colorsound.com/evento/rovazzi-piazza-club-praja-di-gallipoli/
LOCATION:| PRAJA DI GALLIPOLI\, Piazza Club
ATTACH;FMTTYPE=image/jpeg:https://www.colorsound.com/wp-content/uploads/2025/03/FABIO-ROVAZZI_86-scaled-e1742219888477.jpg
END:VEVENT
BEGIN:VEVENT
DTSTART;TZID=Europe/Rome:20250712T210000
DTEND;TZID=Europe/Rome:20250712T233000
DTSTAMP:20260425T124714
CREATED:20250423T092903Z
LAST-MODIFIED:20250423T092903Z
UID:2695-1752354000-1752363000@www.colorsound.com
SUMMARY:Dani Faiv @ Parco Santa Barbara\, Villagrande Strisaili (NU)
DESCRIPTION:
URL:https://www.colorsound.com/evento/dani-faiv-parco-santa-barbara-villagrande-strisaili-nu/
LOCATION:Parco Santa Barbara\, Villagrande Strisaili (NU)
ATTACH;FMTTYPE=image/png:https://www.colorsound.com/wp-content/uploads/2025/03/Schermata-2025-03-17-alle-15.38.34.png
END:VEVENT
BEGIN:VEVENT
DTSTART;TZID=Europe/Rome:20250712T210000
DTEND;TZID=Europe/Rome:20250712T233000
DTSTAMP:20260425T124714
CREATED:20250423T104303Z
LAST-MODIFIED:20250423T104303Z
UID:2810-1752354000-1752363000@www.colorsound.com
SUMMARY:Gemelli Diversi @ Piazza\, Ploaghe (SS)
DESCRIPTION:
URL:https://www.colorsound.com/evento/gemelli-diversi-piazza-ploaghe-ss/
LOCATION:Piazza\, Ghilarza (OR)
ATTACH;FMTTYPE=image/jpeg:https://www.colorsound.com/wp-content/uploads/2024/01/Gemelli-Diversi-400x470-1.jpeg
END:VEVENT
BEGIN:VEVENT
DTSTART;TZID=Europe/Rome:20250714T210000
DTEND;TZID=Europe/Rome:20250714T233000
DTSTAMP:20260425T124714
CREATED:20250423T133913Z
LAST-MODIFIED:20250423T133913Z
UID:2880-1752526800-1752535800@www.colorsound.com
SUMMARY:Fred de Palma @ Piazza\, Ghilarza (OR)
DESCRIPTION:
URL:https://www.colorsound.com/evento/fred-de-palma-piazza-ghilarza-or/
LOCATION:Piazza\, Ghilarza (OR)
ATTACH;FMTTYPE=image/jpeg:https://www.colorsound.com/wp-content/uploads/2025/03/FDP_MHH1036-scaled-e1742220171407.jpg
END:VEVENT
BEGIN:VEVENT
DTSTART;TZID=Europe/Rome:20250719T210000
DTEND;TZID=Europe/Rome:20250719T233000
DTSTAMP:20260425T124714
CREATED:20250317T154030Z
LAST-MODIFIED:20250318T151135Z
UID:2567-1752958800-1752967800@www.colorsound.com
SUMMARY:Patty Pravo @ Desenzano del garda (BS)
DESCRIPTION:
URL:https://www.colorsound.com/evento/patty-pravo-desenzano-del-garda/
LOCATION:DESENZANO DEL GARDA | Castello
ATTACH;FMTTYPE=image/jpeg:https://www.colorsound.com/wp-content/uploads/2024/01/patty-pravo-2-scaled-1024x1220-1.jpeg
END:VEVENT
BEGIN:VEVENT
DTSTART;TZID=Europe/Rome:20250720T210000
DTEND;TZID=Europe/Rome:20250720T233000
DTSTAMP:20260425T124714
CREATED:20250423T104305Z
LAST-MODIFIED:20250423T104305Z
UID:2812-1753045200-1753054200@www.colorsound.com
SUMMARY:Gemelli Diversi @ Piazza\, Laureana Di Borrello (RC)
DESCRIPTION:
URL:https://www.colorsound.com/evento/gemelli-diversi-piazza-laureana-di-borrello-rc/
LOCATION:Laureana Di Borrello (RC)
ATTACH;FMTTYPE=image/png:https://www.colorsound.com/wp-content/uploads/2024/05/IMMAGINE-POST-PRODOTTA-GVD.png
END:VEVENT
BEGIN:VEVENT
DTSTART;TZID=Europe/Rome:20250725T210000
DTEND;TZID=Europe/Rome:20250725T233000
DTSTAMP:20260425T124714
CREATED:20250423T094753Z
LAST-MODIFIED:20250423T094753Z
UID:2726-1753477200-1753486200@www.colorsound.com
SUMMARY:Luca Dirisio @ Piazza Madonna del Rosario\, Borgia (CZ)
DESCRIPTION:
URL:https://www.colorsound.com/evento/luca-dirisio-piazza-madonna-del-rosario-borgia-cz/
LOCATION:Piazza Madonna del Rosario\, Borgia (CZ)
END:VEVENT
BEGIN:VEVENT
DTSTART;TZID=Europe/Rome:20250726T210000
DTEND;TZID=Europe/Rome:20250726T233000
DTSTAMP:20260425T124714
CREATED:20250423T104438Z
LAST-MODIFIED:20250423T104438Z
UID:2818-1753563600-1753572600@www.colorsound.com
SUMMARY:Gemelli Diversi @ Piazza Ierzu\, Nuoro (NU)
DESCRIPTION:
URL:https://www.colorsound.com/evento/gemelli-diversi-piazza-ierzu-nuoro-nu/
LOCATION:Piazza Ierzu\, Nuoro (NU)
ATTACH;FMTTYPE=image/jpeg:https://www.colorsound.com/wp-content/uploads/2024/01/Gemelli-Diversi-400x470-1.jpeg
END:VEVENT
BEGIN:VEVENT
DTSTART;TZID=Europe/Rome:20250727T210000
DTEND;TZID=Europe/Rome:20250727T233000
DTSTAMP:20260425T124714
CREATED:20250317T141421Z
LAST-MODIFIED:20250318T151020Z
UID:2456-1753650000-1753659000@www.colorsound.com
SUMMARY:The Kolors @ Castello Carrarese\, Este (PD)
DESCRIPTION:
URL:https://www.colorsound.com/evento/the-kolors-castello-carrarese-este/
LOCATION:ESTE | Castello Carrarese
ATTACH;FMTTYPE=image/png:https://www.colorsound.com/wp-content/uploads/2024/05/Schermata-2024-05-20-alle-16.37.47.png
END:VEVENT
BEGIN:VEVENT
DTSTART;TZID=Europe/Rome:20250727T210000
DTEND;TZID=Europe/Rome:20250727T233000
DTSTAMP:20260425T124714
CREATED:20250317T145232Z
LAST-MODIFIED:20250318T150850Z
UID:2535-1753650000-1753659000@www.colorsound.com
SUMMARY:Riccardo Fogli @ Piazza\, Paupisi (PN)
DESCRIPTION:
URL:https://www.colorsound.com/evento/riccardo-fogli-paupisi-piazza/
LOCATION:PAUPISI | Piazza
ATTACH;FMTTYPE=image/jpeg:https://www.colorsound.com/wp-content/uploads/2024/01/FOTO-FOGLIsito-color-new-600x730-1.jpeg
END:VEVENT
BEGIN:VEVENT
DTSTART;TZID=Europe/Rome:20250727T210000
DTEND;TZID=Europe/Rome:20250727T233000
DTSTAMP:20260425T124714
CREATED:20250423T101826Z
LAST-MODIFIED:20250423T101826Z
UID:2762-1753650000-1753659000@www.colorsound.com
SUMMARY:Riccardo Fogli @ Piazza Pagani\, Paupisi (BN)
DESCRIPTION:
URL:https://www.colorsound.com/evento/riccardo-fogli-piazza-pagani-paupisi-bn/
LOCATION:Piazza Pagani\, Paupisi (BN)
ATTACH;FMTTYPE=image/jpeg:https://www.colorsound.com/wp-content/uploads/2024/01/FOTO-FOGLIsito-color-new-600x730-1.jpeg
END:VEVENT
BEGIN:VEVENT
DTSTART;TZID=Europe/Rome:20250727T210000
DTEND;TZID=Europe/Rome:20250727T233000
DTSTAMP:20260425T124714
CREATED:20250423T104716Z
LAST-MODIFIED:20250423T104716Z
UID:2820-1753650000-1753659000@www.colorsound.com
SUMMARY:Gemelli Diversi @ Piazza Sant' Angelo Custodi\, Francavilla al mare (CH)
DESCRIPTION:
URL:https://www.colorsound.com/evento/gemelli-diversi-piazza-sant-angelo-custodi-francavilla-al-mare-ch/
LOCATION:Francavilla Al Mare (CH)
ATTACH;FMTTYPE=image/png:https://www.colorsound.com/wp-content/uploads/2024/05/IMMAGINE-POST-PRODOTTA-GVD.png
END:VEVENT
BEGIN:VEVENT
DTSTART;TZID=Europe/Rome:20250728T210000
DTEND;TZID=Europe/Rome:20250728T233000
DTSTAMP:20260425T124714
CREATED:20250423T134027Z
LAST-MODIFIED:20250423T134027Z
UID:2883-1753736400-1753745400@www.colorsound.com
SUMMARY:Fred de Palma @ Piazza Roma\, Vulturana Irpina (AV)
DESCRIPTION:
URL:https://www.colorsound.com/evento/fred-de-palma-piazza-roma-vulturana-irpina-av/
LOCATION:Piazza Roma\, Vulturana Irpina (AV)
ATTACH;FMTTYPE=image/jpeg:https://www.colorsound.com/wp-content/uploads/2025/03/FDP_MHH1036-scaled-e1742220171407.jpg
END:VEVENT
BEGIN:VEVENT
DTSTART;TZID=Europe/Rome:20250730T210000
DTEND;TZID=Europe/Rome:20250730T233000
DTSTAMP:20260425T124714
CREATED:20250423T134214Z
LAST-MODIFIED:20250423T134214Z
UID:2887-1753909200-1753918200@www.colorsound.com
SUMMARY:Fred de Palma @ Piazza Europa\, La Spezia
DESCRIPTION:
URL:https://www.colorsound.com/evento/fred-de-palma-piazza-europa-la-spezia/
LOCATION:Piazza Europa\, La Spezia
ATTACH;FMTTYPE=image/jpeg:https://www.colorsound.com/wp-content/uploads/2025/03/FDP_MHH1036-scaled-e1742220171407.jpg
END:VEVENT
BEGIN:VEVENT
DTSTART;TZID=Europe/Rome:20250801T210000
DTEND;TZID=Europe/Rome:20250801T233000
DTSTAMP:20260425T124714
CREATED:20250423T134319Z
LAST-MODIFIED:20250423T134319Z
UID:2891-1754082000-1754091000@www.colorsound.com
SUMMARY:Fred de Palma @ Piazzale Segni\, Sassari
DESCRIPTION:
URL:https://www.colorsound.com/evento/fred-de-palma-piazzale-segni-sassari/
LOCATION:Piazzale Segni\, Sassari
ATTACH;FMTTYPE=image/jpeg:https://www.colorsound.com/wp-content/uploads/2025/03/FDP_MHH1036-scaled-e1742220171407.jpg
END:VEVENT
BEGIN:VEVENT
DTSTART;TZID=Europe/Rome:20250804T210000
DTEND;TZID=Europe/Rome:20250804T233000
DTSTAMP:20260425T124714
CREATED:20250423T104941Z
LAST-MODIFIED:20250423T104941Z
UID:2824-1754341200-1754350200@www.colorsound.com
SUMMARY:Gemelli Diversi\, Piazza Alcide De Gasperi\, Zungri (VV)
DESCRIPTION:
URL:https://www.colorsound.com/evento/gemelli-diversi-piazza-alcide-de-gasperi-zungri-vv/
LOCATION:Piazza Alcide De Gasperi\, Zungri (VV)
ATTACH;FMTTYPE=image/jpeg:https://www.colorsound.com/wp-content/uploads/2024/01/Gemelli-Diversi-400x470-1.jpeg
END:VEVENT
BEGIN:VEVENT
DTSTART;TZID=Europe/Rome:20250804T210000
DTEND;TZID=Europe/Rome:20250804T233000
DTSTAMP:20260425T124714
CREATED:20250423T134451Z
LAST-MODIFIED:20250423T134451Z
UID:2895-1754341200-1754350200@www.colorsound.com
SUMMARY:Fred de Palma @ Parco Farina\, Villacidro (SU)
DESCRIPTION:
URL:https://www.colorsound.com/evento/fred-de-palma-parco-farina-villacidro-su/
LOCATION:Parco Farina\, Villacidro (SU)
ATTACH;FMTTYPE=image/jpeg:https://www.colorsound.com/wp-content/uploads/2025/03/FDP_MHH1036-scaled-e1742220171407.jpg
END:VEVENT
BEGIN:VEVENT
DTSTART;TZID=Europe/Rome:20250808T210000
DTEND;TZID=Europe/Rome:20250808T233000
DTSTAMP:20260425T124714
CREATED:20250423T101949Z
LAST-MODIFIED:20250423T101949Z
UID:2766-1754686800-1754695800@www.colorsound.com
SUMMARY:Riccardo Fogli @ Piazza Macrì\, Taurianova (RC)
DESCRIPTION:
URL:https://www.colorsound.com/evento/riccardo-fogli-piazza-macri-taurianova-rc/
LOCATION:Piazza Macrì\, Taurianova
ATTACH;FMTTYPE=image/jpeg:https://www.colorsound.com/wp-content/uploads/2024/01/FOTO-FOGLIsito-color-new-600x730-1.jpeg
END:VEVENT
BEGIN:VEVENT
DTSTART;TZID=Europe/Rome:20250809T210000
DTEND;TZID=Europe/Rome:20250809T233000
DTSTAMP:20260425T124714
CREATED:20250429T103357Z
LAST-MODIFIED:20250429T103709Z
UID:2940-1754773200-1754782200@www.colorsound.com
SUMMARY:Enrico Ruggeri @ Piazza Don Milani\, Gallese (VT)
DESCRIPTION:
URL:https://www.colorsound.com/evento/enrico-ruggeri-piazza-don-milani-gallese-vt/
LOCATION:Gallese\, Pazza Don Milani
ATTACH;FMTTYPE=image/png:https://www.colorsound.com/wp-content/uploads/2024/05/Schermata-2024-05-20-alle-16.13.52.png
END:VEVENT
BEGIN:VEVENT
DTSTART;TZID=Europe/Rome:20250810T210000
DTEND;TZID=Europe/Rome:20250810T233000
DTSTAMP:20260425T124714
CREATED:20250423T095352Z
LAST-MODIFIED:20250423T095352Z
UID:2730-1754859600-1754868600@www.colorsound.com
SUMMARY:Federica Carta @ Piazza San Francesco\, Francavilla Insinni (PZ)
DESCRIPTION:
URL:https://www.colorsound.com/evento/federica-carta-piazza-san-francesco-francavilla-insinni-pz/
LOCATION:Piazza San Francesco\, Francavilla Insinni
ATTACH;FMTTYPE=image/jpeg:https://www.colorsound.com/wp-content/uploads/2024/01/Federica-Carta-4-scaled-800x980-1.jpeg
END:VEVENT
BEGIN:VEVENT
DTSTART;TZID=Europe/Rome:20250811T210000
DTEND;TZID=Europe/Rome:20250811T233000
DTSTAMP:20260425T124714
CREATED:20250317T155305Z
LAST-MODIFIED:20250318T150221Z
UID:2579-1754946000-1754955000@www.colorsound.com
SUMMARY:Paolo Meneguzzi @ piazza\, Pisciotta (SA)
DESCRIPTION:
URL:https://www.colorsound.com/evento/paolo-meneguzzi-pisciotta-piazza/
LOCATION:PISCIOTTA | PIAZZA
ATTACH;FMTTYPE=image/jpeg:https://www.colorsound.com/wp-content/uploads/2024/01/03-400x485-1.jpeg
END:VEVENT
END:VCALENDAR