BEGIN:VCALENDAR
VERSION:2.0
PRODID:-//Color Sound - ECPv6.15.6//NONSGML v1.0//EN
CALSCALE:GREGORIAN
METHOD:PUBLISH
X-WR-CALNAME:Color Sound
X-ORIGINAL-URL:https://www.colorsound.com
X-WR-CALDESC:Eventi per Color Sound
REFRESH-INTERVAL;VALUE=DURATION:PT1H
X-Robots-Tag:noindex
X-PUBLISHED-TTL:PT1H
BEGIN:VTIMEZONE
TZID:Europe/Rome
BEGIN:DAYLIGHT
TZOFFSETFROM:+0100
TZOFFSETTO:+0200
TZNAME:CEST
DTSTART:20240331T010000
END:DAYLIGHT
BEGIN:STANDARD
TZOFFSETFROM:+0200
TZOFFSETTO:+0100
TZNAME:CET
DTSTART:20241027T010000
END:STANDARD
BEGIN:DAYLIGHT
TZOFFSETFROM:+0100
TZOFFSETTO:+0200
TZNAME:CEST
DTSTART:20250330T010000
END:DAYLIGHT
BEGIN:STANDARD
TZOFFSETFROM:+0200
TZOFFSETTO:+0100
TZNAME:CET
DTSTART:20251026T010000
END:STANDARD
BEGIN:DAYLIGHT
TZOFFSETFROM:+0100
TZOFFSETTO:+0200
TZNAME:CEST
DTSTART:20260329T010000
END:DAYLIGHT
BEGIN:STANDARD
TZOFFSETFROM:+0200
TZOFFSETTO:+0100
TZNAME:CET
DTSTART:20261025T010000
END:STANDARD
END:VTIMEZONE
BEGIN:VEVENT
DTSTART;TZID=Europe/Rome:20250927T210000
DTEND;TZID=Europe/Rome:20250927T233000
DTSTAMP:20260424T174328
CREATED:20250423T131939Z
LAST-MODIFIED:20250423T131939Z
UID:2856-1759006800-1759015800@www.colorsound.com
SUMMARY:Gemelli Diversi @ Piazza San Michele Arcangelo\, Padru (SS)
DESCRIPTION:
URL:https://www.colorsound.com/evento/gemelli-diversi-piazza-san-michele-arcangelo-padru-ss/
LOCATION:Padru (SS)
ATTACH;FMTTYPE=image/png:https://www.colorsound.com/wp-content/uploads/2024/05/IMMAGINE-POST-PRODOTTA-GVD.png
END:VEVENT
BEGIN:VEVENT
DTSTART;TZID=Europe/Rome:20250907T210000
DTEND;TZID=Europe/Rome:20250907T233000
DTSTAMP:20260424T174328
CREATED:20250423T131804Z
LAST-MODIFIED:20250423T131804Z
UID:2852-1757278800-1757287800@www.colorsound.com
SUMMARY:Gemelli Diversi @ Piazza Ferrari\, Mammola (RC)
DESCRIPTION:
URL:https://www.colorsound.com/evento/gemelli-diversi-piazza-ferrari-mammola-rc/
LOCATION:Mammola (RC)
ATTACH;FMTTYPE=image/png:https://www.colorsound.com/wp-content/uploads/2024/05/IMMAGINE-POST-PRODOTTA-GVD.png
END:VEVENT
BEGIN:VEVENT
DTSTART;TZID=Europe/Rome:20250829T210000
DTEND;TZID=Europe/Rome:20250829T233000
DTSTAMP:20260424T174328
CREATED:20250423T131622Z
LAST-MODIFIED:20250423T131622Z
UID:2848-1756501200-1756510200@www.colorsound.com
SUMMARY:Gemelli Diversi @ Piazza Primo Maggio\, Samatzai (CA)
DESCRIPTION:
URL:https://www.colorsound.com/evento/gemelli-diversi-piazza-primo-maggio-samatzai-ca/
LOCATION:Samatzai (CA)
ATTACH;FMTTYPE=image/png:https://www.colorsound.com/wp-content/uploads/2024/05/IMMAGINE-POST-PRODOTTA-GVD.png
END:VEVENT
BEGIN:VEVENT
DTSTART;TZID=Europe/Rome:20250827T210000
DTEND;TZID=Europe/Rome:20250827T233000
DTSTAMP:20260424T174328
CREATED:20250423T131400Z
LAST-MODIFIED:20250423T131400Z
UID:2842-1756328400-1756337400@www.colorsound.com
SUMMARY:Gemelli Diversi @ Piazza Indipendenza\, Botrugno (LE)
DESCRIPTION:
URL:https://www.colorsound.com/evento/gemelli-diversi-piazza-indipendenza-botrugno-le/
LOCATION:Botrugno (LE)
ATTACH;FMTTYPE=image/png:https://www.colorsound.com/wp-content/uploads/2024/05/IMMAGINE-POST-PRODOTTA-GVD.png
END:VEVENT
BEGIN:VEVENT
DTSTART;TZID=Europe/Rome:20250816T210000
DTEND;TZID=Europe/Rome:20250816T233000
DTSTAMP:20260424T174328
CREATED:20250423T105128Z
LAST-MODIFIED:20250423T105128Z
UID:2828-1755378000-1755387000@www.colorsound.com
SUMMARY:Gemelli Diversi @ Piazza San Rocco\, Cupone Di Cerro Al Volturno (IS)
DESCRIPTION:
URL:https://www.colorsound.com/evento/gemelli-diversi-piazza-san-rocco-cupone-di-cerro-al-volturno-is/
LOCATION:Cupone Di Cerro Al Volturno (IS)
ATTACH;FMTTYPE=image/png:https://www.colorsound.com/wp-content/uploads/2024/05/IMMAGINE-POST-PRODOTTA-GVD.png
END:VEVENT
BEGIN:VEVENT
DTSTART;TZID=Europe/Rome:20250804T210000
DTEND;TZID=Europe/Rome:20250804T233000
DTSTAMP:20260424T174328
CREATED:20250423T104941Z
LAST-MODIFIED:20250423T104941Z
UID:2824-1754341200-1754350200@www.colorsound.com
SUMMARY:Gemelli Diversi\, Piazza Alcide De Gasperi\, Zungri (VV)
DESCRIPTION:
URL:https://www.colorsound.com/evento/gemelli-diversi-piazza-alcide-de-gasperi-zungri-vv/
LOCATION:Piazza Alcide De Gasperi\, Zungri (VV)
ATTACH;FMTTYPE=image/jpeg:https://www.colorsound.com/wp-content/uploads/2024/01/Gemelli-Diversi-400x470-1.jpeg
END:VEVENT
BEGIN:VEVENT
DTSTART;TZID=Europe/Rome:20250727T210000
DTEND;TZID=Europe/Rome:20250727T233000
DTSTAMP:20260424T174328
CREATED:20250423T104716Z
LAST-MODIFIED:20250423T104716Z
UID:2820-1753650000-1753659000@www.colorsound.com
SUMMARY:Gemelli Diversi @ Piazza Sant' Angelo Custodi\, Francavilla al mare (CH)
DESCRIPTION:
URL:https://www.colorsound.com/evento/gemelli-diversi-piazza-sant-angelo-custodi-francavilla-al-mare-ch/
LOCATION:Francavilla Al Mare (CH)
ATTACH;FMTTYPE=image/png:https://www.colorsound.com/wp-content/uploads/2024/05/IMMAGINE-POST-PRODOTTA-GVD.png
END:VEVENT
BEGIN:VEVENT
DTSTART;TZID=Europe/Rome:20250726T210000
DTEND;TZID=Europe/Rome:20250726T233000
DTSTAMP:20260424T174328
CREATED:20250423T104438Z
LAST-MODIFIED:20250423T104438Z
UID:2818-1753563600-1753572600@www.colorsound.com
SUMMARY:Gemelli Diversi @ Piazza Ierzu\, Nuoro (NU)
DESCRIPTION:
URL:https://www.colorsound.com/evento/gemelli-diversi-piazza-ierzu-nuoro-nu/
LOCATION:Piazza Ierzu\, Nuoro (NU)
ATTACH;FMTTYPE=image/jpeg:https://www.colorsound.com/wp-content/uploads/2024/01/Gemelli-Diversi-400x470-1.jpeg
END:VEVENT
BEGIN:VEVENT
DTSTART;TZID=Europe/Rome:20250720T210000
DTEND;TZID=Europe/Rome:20250720T233000
DTSTAMP:20260424T174328
CREATED:20250423T104305Z
LAST-MODIFIED:20250423T104305Z
UID:2812-1753045200-1753054200@www.colorsound.com
SUMMARY:Gemelli Diversi @ Piazza\, Laureana Di Borrello (RC)
DESCRIPTION:
URL:https://www.colorsound.com/evento/gemelli-diversi-piazza-laureana-di-borrello-rc/
LOCATION:Laureana Di Borrello (RC)
ATTACH;FMTTYPE=image/png:https://www.colorsound.com/wp-content/uploads/2024/05/IMMAGINE-POST-PRODOTTA-GVD.png
END:VEVENT
BEGIN:VEVENT
DTSTART;TZID=Europe/Rome:20250712T210000
DTEND;TZID=Europe/Rome:20250712T233000
DTSTAMP:20260424T174328
CREATED:20250423T104303Z
LAST-MODIFIED:20250423T104303Z
UID:2810-1752354000-1752363000@www.colorsound.com
SUMMARY:Gemelli Diversi @ Piazza\, Ploaghe (SS)
DESCRIPTION:
URL:https://www.colorsound.com/evento/gemelli-diversi-piazza-ploaghe-ss/
LOCATION:Piazza\, Ghilarza (OR)
ATTACH;FMTTYPE=image/jpeg:https://www.colorsound.com/wp-content/uploads/2024/01/Gemelli-Diversi-400x470-1.jpeg
END:VEVENT
BEGIN:VEVENT
DTSTART;TZID=Europe/Rome:20250704T210000
DTEND;TZID=Europe/Rome:20250704T233000
DTSTAMP:20260424T174328
CREATED:20250423T104053Z
LAST-MODIFIED:20250423T104053Z
UID:2806-1751662800-1751671800@www.colorsound.com
SUMMARY:Gemelli Diversi @ Unknow Festival\, Scandiano (RE)
DESCRIPTION:
URL:https://www.colorsound.com/evento/gemelli-diversi-unknow-festival-scandiano-re/
LOCATION:Unknow Festival\, Scandiano (RE)
ATTACH;FMTTYPE=image/jpeg:https://www.colorsound.com/wp-content/uploads/2024/01/Gemelli-Diversi-400x470-1.jpeg
END:VEVENT
BEGIN:VEVENT
DTSTART;TZID=Europe/Rome:20250628T210000
DTEND;TZID=Europe/Rome:20250628T233000
DTSTAMP:20260424T174328
CREATED:20250423T103655Z
LAST-MODIFIED:20250423T103655Z
UID:2800-1751144400-1751153400@www.colorsound.com
SUMMARY:Gemelli Diversi @ Anfiteatro\, Badesi (SS)
DESCRIPTION:
URL:https://www.colorsound.com/evento/gemelli-diversi-anfiteatro-badesi-ss/
LOCATION:Badesi (SS)
ATTACH;FMTTYPE=image/png:https://www.colorsound.com/wp-content/uploads/2024/05/IMMAGINE-POST-PRODOTTA-GVD.png
END:VEVENT
BEGIN:VEVENT
DTSTART;TZID=Europe/Rome:20250613T210000
DTEND;TZID=Europe/Rome:20250613T233000
DTSTAMP:20260424T174328
CREATED:20250423T103722Z
LAST-MODIFIED:20250423T103722Z
UID:2797-1749848400-1749857400@www.colorsound.com
SUMMARY:Gemelli Diversi @ Piazza S. Antonio\, Tonara (NU)
DESCRIPTION:
URL:https://www.colorsound.com/evento/gemelli-diversi-piazza-s-antonio-tonara-nu/
LOCATION:Piazza S. Antonio\, Tonara (NU)
ATTACH;FMTTYPE=image/jpeg:https://www.colorsound.com/wp-content/uploads/2024/01/Gemelli-Diversi-400x470-1.jpeg
END:VEVENT
BEGIN:VEVENT
DTSTART;TZID=Europe/Rome:20250613T210000
DTEND;TZID=Europe/Rome:20250613T233000
DTSTAMP:20260424T174328
CREATED:20250317T132359Z
LAST-MODIFIED:20250317T132359Z
UID:2355-1749848400-1749857400@www.colorsound.com
SUMMARY:Gemelli Diversi @ Piazza Sant'Antonio\, Tonara (NU)
DESCRIPTION:
URL:https://www.colorsound.com/evento/gemelli-diversi-piazza-santantonio-tonara-nu/
LOCATION:| TONARA\, Piazza Sant'Antonio
ATTACH;FMTTYPE=image/jpeg:https://www.colorsound.com/wp-content/uploads/2024/01/Gemelli-Diversi-400x470-1.jpeg
END:VEVENT
BEGIN:VEVENT
DTSTART;TZID=Europe/Rome:20250607T210000
DTEND;TZID=Europe/Rome:20250607T233000
DTSTAMP:20260424T174328
CREATED:20250423T103516Z
LAST-MODIFIED:20250423T103516Z
UID:2793-1749330000-1749339000@www.colorsound.com
SUMMARY:Gemelli Diversi @ Villaggio San Francesco\, Pianette Montalto Uffugo (CS)
DESCRIPTION:
URL:https://www.colorsound.com/evento/gemelli-diversi-villaggio-san-francesco-pianette-montalto-uffugo-cs/
LOCATION:|PIANETTE DI MONTALTO UFFUGO\, Villaggio San Francesco
ATTACH;FMTTYPE=image/png:https://www.colorsound.com/wp-content/uploads/2024/05/IMMAGINE-POST-PRODOTTA-GVD.png
END:VEVENT
BEGIN:VEVENT
DTSTART;TZID=Europe/Rome:20250607T210000
DTEND;TZID=Europe/Rome:20250607T233000
DTSTAMP:20260424T174328
CREATED:20250317T132130Z
LAST-MODIFIED:20250317T132130Z
UID:2351-1749330000-1749339000@www.colorsound.com
SUMMARY:Gemelli Diversi @ Villaggio San Francesco\, Pianette di Montalto Uffugo (CS)
DESCRIPTION:
URL:https://www.colorsound.com/evento/gemelli-diversi-villaggio-san-francesco-pianette-di-montalto-uffugo-cs/
LOCATION:|PIANETTE DI MONTALTO UFFUGO\, Villaggio San Francesco
ATTACH;FMTTYPE=image/jpeg:https://www.colorsound.com/wp-content/uploads/2024/01/Gemelli-Diversi-400x470-1.jpeg
END:VEVENT
BEGIN:VEVENT
DTSTART;TZID=Europe/Rome:20250520T210000
DTEND;TZID=Europe/Rome:20250520T233000
DTSTAMP:20260424T174328
CREATED:20250423T103449Z
LAST-MODIFIED:20250423T103449Z
UID:2791-1747774800-1747783800@www.colorsound.com
SUMMARY:Gemelli Diversi @ Piazza IV Novembre\, Tula (SS)
DESCRIPTION:
URL:https://www.colorsound.com/evento/gemelli-diversi-piazza-iv-novembre-tula-ss/
LOCATION:Piazza IV Novembre\, Tula (SS)
ATTACH;FMTTYPE=image/jpeg:https://www.colorsound.com/wp-content/uploads/2024/01/Gemelli-Diversi-400x470-1.jpeg
END:VEVENT
BEGIN:VEVENT
DTSTART;TZID=Europe/Rome:20250511T210000
DTEND;TZID=Europe/Rome:20250511T233000
DTSTAMP:20260424T174328
CREATED:20250423T103225Z
LAST-MODIFIED:20250423T103225Z
UID:2785-1746997200-1747006200@www.colorsound.com
SUMMARY:Gemelli Diversi @ Piazza Madonna Di Fatima\, Ariano Irpino AV
DESCRIPTION:
URL:https://www.colorsound.com/evento/gemelli-diversi-piazza-madonna-di-fatima-ariano-irpino-av/
LOCATION:Piazza Madonna Di Fatima\, Ariano Irpino (AV)
ATTACH;FMTTYPE=image/png:https://www.colorsound.com/wp-content/uploads/2024/05/IMMAGINE-POST-PRODOTTA-GVD.png
END:VEVENT
BEGIN:VEVENT
DTSTART;TZID=Europe/Rome:20250510T210000
DTEND;TZID=Europe/Rome:20250510T233000
DTSTAMP:20260424T174328
CREATED:20250423T102845Z
LAST-MODIFIED:20250423T102845Z
UID:2781-1746910800-1746919800@www.colorsound.com
SUMMARY:Gemelli Diversi @ Campo Sportivo\, Roccafranca (BS)
DESCRIPTION:
URL:https://www.colorsound.com/evento/gemelli-diversi-campo-sportivo-roccafranca-bs-2/
LOCATION:Campo Sportivo\, Roccafranca (BS)
ATTACH;FMTTYPE=image/jpeg:https://www.colorsound.com/wp-content/uploads/2024/01/Gemelli-Diversi-400x470-1.jpeg
END:VEVENT
BEGIN:VEVENT
DTSTART;TZID=Europe/Rome:20250510T210000
DTEND;TZID=Europe/Rome:20250510T233000
DTSTAMP:20260424T174328
CREATED:20250317T131610Z
LAST-MODIFIED:20250317T131708Z
UID:2345-1746910800-1746919800@www.colorsound.com
SUMMARY:Gemelli Diversi @ Campo Sportivo\, Roccafranca (BS)
DESCRIPTION:
URL:https://www.colorsound.com/evento/gemelli-diversi-campo-sportivo-roccafranca-bs/
LOCATION:| ROCCAFRANCA\, CAMPO SPORTIVO
ATTACH;FMTTYPE=image/jpeg:https://www.colorsound.com/wp-content/uploads/2024/01/Gemelli-Diversi-400x470-1.jpeg
END:VEVENT
BEGIN:VEVENT
DTSTART;TZID=Europe/Rome:20250508T210000
DTEND;TZID=Europe/Rome:20250508T233000
DTSTAMP:20260424T174328
CREATED:20250423T102611Z
LAST-MODIFIED:20250423T102611Z
UID:2777-1746738000-1746747000@www.colorsound.com
SUMMARY:Gemelli Diversi @ Piazza XXV Aprile\, Cuturella di Cropani (CZ)
DESCRIPTION:
URL:https://www.colorsound.com/evento/gemelli-diversi-piazza-xxv-aprile-cuturella-di-cropani-cz/
LOCATION:Piazza XXV Aprile\, Cuturella di Cropani (CZ)
ATTACH;FMTTYPE=image/jpeg:https://www.colorsound.com/wp-content/uploads/2024/01/Gemelli-Diversi-400x470-1.jpeg
END:VEVENT
BEGIN:VEVENT
DTSTART;TZID=Europe/Rome:20250501T210000
DTEND;TZID=Europe/Rome:20250501T210000
DTSTAMP:20260424T174328
CREATED:20250317T130704Z
LAST-MODIFIED:20250317T130704Z
UID:2332-1746133200-1746133200@www.colorsound.com
SUMMARY:Gemelli Diversi @ Piazza Zito\, Torrenova (ME)
DESCRIPTION:
URL:https://www.colorsound.com/evento/gemelli-diversi-piazza-zito-torrenova-me/
LOCATION:TORRENOVA |\, PIAZZA ZITO\, TORRENOVA\, ME
ATTACH;FMTTYPE=image/jpeg:https://www.colorsound.com/wp-content/uploads/2024/01/Gemelli-Diversi-400x470-1.jpeg
END:VEVENT
BEGIN:VEVENT
DTSTART;TZID=Europe/Rome:20250423T080000
DTEND;TZID=Europe/Rome:20250423T170000
DTSTAMP:20260424T174328
CREATED:20250423T105132Z
LAST-MODIFIED:20250423T105132Z
UID:2832-1745395200-1745427600@www.colorsound.com
SUMMARY:Gemelli Diversi @ Piazza San Lidano\, Pero dei Santi (AQ)
DESCRIPTION:
URL:https://www.colorsound.com/evento/gemelli-diversi-piazza-san-lidano-pero-dei-santi-aq/
LOCATION:Piazza San Lidano\, Pero dei Santi (AQ)
ATTACH;FMTTYPE=image/jpeg:https://www.colorsound.com/wp-content/uploads/2024/01/Gemelli-Diversi-400x470-1.jpeg
END:VEVENT
BEGIN:VEVENT
DTSTART;TZID=Europe/Rome:20250423T080000
DTEND;TZID=Europe/Rome:20250423T170000
DTSTAMP:20260424T174328
CREATED:20250423T102420Z
LAST-MODIFIED:20250423T102420Z
UID:2774-1745395200-1745427600@www.colorsound.com
SUMMARY:Gemelli Diversi @ Piazza Garibaldi\, Pratola Peligna (AQ)
DESCRIPTION:
URL:https://www.colorsound.com/evento/gemelli-diversi-piazza-garibaldi-pratola-peligna-aq/
LOCATION:Piazza Garibaldi\, Pratola Peligna (AQ)
ATTACH;FMTTYPE=image/jpeg:https://www.colorsound.com/wp-content/uploads/2024/01/Gemelli-Diversi-400x470-1.jpeg
END:VEVENT
END:VCALENDAR