BEGIN:VCALENDAR
VERSION:2.0
PRODID:-//Color Sound - ECPv6.15.6//NONSGML v1.0//EN
CALSCALE:GREGORIAN
METHOD:PUBLISH
X-WR-CALNAME:Color Sound
X-ORIGINAL-URL:https://www.colorsound.com
X-WR-CALDESC:Eventi per Color Sound
REFRESH-INTERVAL;VALUE=DURATION:PT1H
X-Robots-Tag:noindex
X-PUBLISHED-TTL:PT1H
BEGIN:VTIMEZONE
TZID:Europe/Rome
BEGIN:DAYLIGHT
TZOFFSETFROM:+0100
TZOFFSETTO:+0200
TZNAME:CEST
DTSTART:20240331T010000
END:DAYLIGHT
BEGIN:STANDARD
TZOFFSETFROM:+0200
TZOFFSETTO:+0100
TZNAME:CET
DTSTART:20241027T010000
END:STANDARD
BEGIN:DAYLIGHT
TZOFFSETFROM:+0100
TZOFFSETTO:+0200
TZNAME:CEST
DTSTART:20250330T010000
END:DAYLIGHT
BEGIN:STANDARD
TZOFFSETFROM:+0200
TZOFFSETTO:+0100
TZNAME:CET
DTSTART:20251026T010000
END:STANDARD
BEGIN:DAYLIGHT
TZOFFSETFROM:+0100
TZOFFSETTO:+0200
TZNAME:CEST
DTSTART:20260329T010000
END:DAYLIGHT
BEGIN:STANDARD
TZOFFSETFROM:+0200
TZOFFSETTO:+0100
TZNAME:CET
DTSTART:20261025T010000
END:STANDARD
END:VTIMEZONE
BEGIN:VEVENT
DTSTART;TZID=Europe/Rome:20250827T210000
DTEND;TZID=Europe/Rome:20250827T233000
DTSTAMP:20260424T174512
CREATED:20250423T094009Z
LAST-MODIFIED:20250423T094009Z
UID:2718-1756328400-1756337400@www.colorsound.com
SUMMARY:Dj Jad & Wlady @ Piazza Indipendenza\, Botrugno (LE)
DESCRIPTION:
URL:https://www.colorsound.com/evento/dj-jad-wlady-piazza-indipendenza-botrugno-le/
LOCATION:Piazza Indipendenza\, Botrugno (LE)
ATTACH;FMTTYPE=image/jpeg:https://www.colorsound.com/wp-content/uploads/2024/02/IMG17-scaled.jpg
END:VEVENT
BEGIN:VEVENT
DTSTART;TZID=Europe/Rome:20250621T210000
DTEND;TZID=Europe/Rome:20250621T233000
DTSTAMP:20260424T174512
CREATED:20250423T093750Z
LAST-MODIFIED:20250423T093750Z
UID:2714-1750539600-1750548600@www.colorsound.com
SUMMARY:Dj Jad & Wlady @ Piazza San Giovanni\, Nuoro
DESCRIPTION:
URL:https://www.colorsound.com/evento/dj-jad-wlady-piazza-san-giovanni-nuoro/
LOCATION:Piazza San Giovanni\, Nuoro
ATTACH;FMTTYPE=image/jpeg:https://www.colorsound.com/wp-content/uploads/2024/02/IMG17-scaled.jpg
END:VEVENT
BEGIN:VEVENT
DTSTART;TZID=Europe/Rome:20250509T210000
DTEND;TZID=Europe/Rome:20250509T233000
DTSTAMP:20260424T174512
CREATED:20250423T093625Z
LAST-MODIFIED:20250423T093625Z
UID:2710-1746824400-1746833400@www.colorsound.com
SUMMARY:Dj Jad & Wlady @ Piazza Municipio\, Ardara (SS)
DESCRIPTION:
URL:https://www.colorsound.com/evento/dj-jad-wlady-piazza-municipio-ardara-ss/
LOCATION:Piazza Municipio\, Ardara (SS)
ATTACH;FMTTYPE=image/jpeg:https://www.colorsound.com/wp-content/uploads/2024/02/IMG17-scaled.jpg
END:VEVENT
BEGIN:VEVENT
DTSTART;TZID=Europe/Rome:20250430T210000
DTEND;TZID=Europe/Rome:20250430T233000
DTSTAMP:20260424T174512
CREATED:20250317T160652Z
LAST-MODIFIED:20250423T131122Z
UID:2591-1746046800-1746055800@www.colorsound.com
SUMMARY:Dj Jad e Wlady @ Festival\, Torremaggiore (FG)
DESCRIPTION:
URL:https://www.colorsound.com/evento/dj-jad-e-wlady-torremaggiore-festival/
LOCATION:TORREMAGGIORE | Festival
ATTACH;FMTTYPE=image/jpeg:https://www.colorsound.com/wp-content/uploads/2024/02/IMG17-scaled.jpg
END:VEVENT
END:VCALENDAR